BEGIN:VCALENDAR
VERSION:2.0
PRODID:-//LMS Entertainment - ECPv6.15.20//NONSGML v1.0//EN
CALSCALE:GREGORIAN
METHOD:PUBLISH
X-WR-CALNAME:LMS Entertainment
X-ORIGINAL-URL:https://lmsentertainment.biz
X-WR-CALDESC:Events for LMS Entertainment
REFRESH-INTERVAL;VALUE=DURATION:PT1H
X-Robots-Tag:noindex
X-PUBLISHED-TTL:PT1H
BEGIN:VTIMEZONE
TZID:America/Vancouver
BEGIN:DAYLIGHT
TZOFFSETFROM:-0800
TZOFFSETTO:-0700
TZNAME:PDT
DTSTART:20240310T100000
END:DAYLIGHT
BEGIN:STANDARD
TZOFFSETFROM:-0700
TZOFFSETTO:-0800
TZNAME:PST
DTSTART:20241103T090000
END:STANDARD
BEGIN:DAYLIGHT
TZOFFSETFROM:-0800
TZOFFSETTO:-0700
TZNAME:PDT
DTSTART:20250309T100000
END:DAYLIGHT
BEGIN:STANDARD
TZOFFSETFROM:-0700
TZOFFSETTO:-0800
TZNAME:PST
DTSTART:20251102T090000
END:STANDARD
BEGIN:DAYLIGHT
TZOFFSETFROM:-0800
TZOFFSETTO:-0700
TZNAME:PDT
DTSTART:20260308T100000
END:DAYLIGHT
BEGIN:STANDARD
TZOFFSETFROM:-0700
TZOFFSETTO:-0800
TZNAME:PST
DTSTART:20261101T090000
END:STANDARD
BEGIN:DAYLIGHT
TZOFFSETFROM:-0800
TZOFFSETTO:-0700
TZNAME:PDT
DTSTART:20270314T100000
END:DAYLIGHT
BEGIN:STANDARD
TZOFFSETFROM:-0700
TZOFFSETTO:-0800
TZNAME:PST
DTSTART:20271107T090000
END:STANDARD
END:VTIMEZONE
BEGIN:VEVENT
DTSTART;VALUE=DATE:20260112
DTEND;VALUE=DATE:20260113
DTSTAMP:20260419T233451
CREATED:20250708T210843Z
LAST-MODIFIED:20251028T001732Z
UID:21206-1768176000-1768262399@lmsentertainment.biz
SUMMARY:Ben Thompson as ELVIS
DESCRIPTION:
URL:https://lmsentertainment.biz/show/ben-thompson-as-elvis-4/
LOCATION:Kelowna Community Theatre\, 1375 Water Street\, Kelowna\, BC\, Canada
CATEGORIES:Show
ATTACH;FMTTYPE=image/jpeg:https://lmsentertainment.biz/wp-content/uploads/2025/07/BenThompson-Elvis-TourSocial-KELOWNA.jpg
END:VEVENT
BEGIN:VEVENT
DTSTART;VALUE=DATE:20260111
DTEND;VALUE=DATE:20260112
DTSTAMP:20260419T233451
CREATED:20250708T210630Z
LAST-MODIFIED:20250820T180606Z
UID:21203-1768089600-1768175999@lmsentertainment.biz
SUMMARY:Ben Thompson as ELVIS
DESCRIPTION:
URL:https://lmsentertainment.biz/show/ben-thompson-as-elvis-3/
LOCATION:Cleland Theatre\, 325 Power Street\, Penticton\, BC\, Canada
CATEGORIES:Show
ATTACH;FMTTYPE=image/jpeg:https://lmsentertainment.biz/wp-content/uploads/2025/07/BenThompson-Elvis-TourSocial-Penticton.jpg
END:VEVENT
BEGIN:VEVENT
DTSTART;VALUE=DATE:20260110
DTEND;VALUE=DATE:20260111
DTSTAMP:20260419T233451
CREATED:20250708T210033Z
LAST-MODIFIED:20250924T184607Z
UID:21200-1768003200-1768089599@lmsentertainment.biz
SUMMARY:Ben Thompson as ELVIS
DESCRIPTION:
URL:https://lmsentertainment.biz/show/ben-thompson-as-elvis-2/
LOCATION:Frank Venables Theatre\, 6100 Gala Street\, Oliver\, BC\, Canada
CATEGORIES:Show
ATTACH;FMTTYPE=image/jpeg:https://lmsentertainment.biz/wp-content/uploads/2025/07/BenThompson-Elvis-TourSocial-OLIVER.jpg
END:VEVENT
BEGIN:VEVENT
DTSTART;VALUE=DATE:20260109
DTEND;VALUE=DATE:20260110
DTSTAMP:20260419T233451
CREATED:20250708T174808Z
LAST-MODIFIED:20250708T210250Z
UID:21166-1767916800-1768003199@lmsentertainment.biz
SUMMARY:Ben Thompson as ELVIS
DESCRIPTION:
URL:https://lmsentertainment.biz/show/ben-thompson-as-elvis/
LOCATION:Vernon & District Performing Arts Centre\, 3800-33 Street\, Vernon\, BC\, Canada
CATEGORIES:Show
ATTACH;FMTTYPE=image/jpeg:https://lmsentertainment.biz/wp-content/uploads/2025/07/BenThompson-Elvis-TourSocial-VERNON.jpg
END:VEVENT
BEGIN:VEVENT
DTSTART;VALUE=DATE:20251025
DTEND;VALUE=DATE:20251026
DTSTAMP:20260419T233451
CREATED:20250708T212320Z
LAST-MODIFIED:20250709T201044Z
UID:21219-1761350400-1761436799@lmsentertainment.biz
SUMMARY:Classic Elton
DESCRIPTION:Featuring Andrew Johns. Including Nine Piece Band The Jets.
URL:https://lmsentertainment.biz/show/classic-elton/
LOCATION:Cleland Theatre\, 325 Power Street\, Penticton\, BC\, Canada
CATEGORIES:Show
ATTACH;FMTTYPE=image/jpeg:https://lmsentertainment.biz/wp-content/uploads/2025/07/ClassicElton-Penticton-Socials.jpg
END:VEVENT
BEGIN:VEVENT
DTSTART;VALUE=DATE:20250928
DTEND;VALUE=DATE:20250929
DTSTAMP:20260419T233451
CREATED:20250708T211830Z
LAST-MODIFIED:20250709T201044Z
UID:21216-1759017600-1759103999@lmsentertainment.biz
SUMMARY:The Passion of Amy Winehouse
DESCRIPTION:Featuring Heidi Munro
URL:https://lmsentertainment.biz/show/the-passion-of-amy-winehouse-2/
LOCATION:HUB International Theatre\, 9201 Corbould Street\, Chilliwack\, BC\, Canada
CATEGORIES:Show
ATTACH;FMTTYPE=image/jpeg:https://lmsentertainment.biz/wp-content/uploads/2025/07/Passion-ChilliwackSocialPost.jpg
END:VEVENT
BEGIN:VEVENT
DTSTART;VALUE=DATE:20250927
DTEND;VALUE=DATE:20250928
DTSTAMP:20260419T233451
CREATED:20250814T003623Z
LAST-MODIFIED:20250827T171311Z
UID:21255-1758931200-1759017599@lmsentertainment.biz
SUMMARY:The Passion of Amy Winehouse
DESCRIPTION:Featuring Heidi Munro
URL:https://lmsentertainment.biz/show/the-passion-of-amy-winehouse-4/
LOCATION:Blue Frog Studios\, 1328 Johnston Road\, White Rock\, British Columbia\, V4B 3Z2\, Canada
CATEGORIES:Show
ATTACH;FMTTYPE=image/webp:https://lmsentertainment.biz/wp-content/uploads/2025/08/backtoblack-amywinehouse-square.webp
END:VEVENT
BEGIN:VEVENT
DTSTART;VALUE=DATE:20250926
DTEND;VALUE=DATE:20250927
DTSTAMP:20260419T233451
CREATED:20250708T211614Z
LAST-MODIFIED:20250709T201044Z
UID:21213-1758844800-1758931199@lmsentertainment.biz
SUMMARY:The Passion of Amy Winehouse
DESCRIPTION:Featuring Heidi Munro
URL:https://lmsentertainment.biz/show/the-passion-of-amy-winehouse/
LOCATION:Kay Meek Theatre\, 1700 Mathers Avenue\, West Vancouver\, BC\, Canada
CATEGORIES:Show
ATTACH;FMTTYPE=image/jpeg:https://lmsentertainment.biz/wp-content/uploads/2025/07/PassionAmy-WestVan-SocialSquare-1.jpg
END:VEVENT
BEGIN:VEVENT
DTSTART;VALUE=DATE:20250925
DTEND;VALUE=DATE:20250926
DTSTAMP:20260419T233451
CREATED:20250814T003200Z
LAST-MODIFIED:20250814T003200Z
UID:21252-1758758400-1758844799@lmsentertainment.biz
SUMMARY:The Passion of Amy Winehouse
DESCRIPTION:Featuring Heidi Munro
URL:https://lmsentertainment.biz/show/the-passion-of-amy-winehouse-3/
LOCATION:Song Sparrow Hall\, 180 Lakeshore Dr. NW\, Salmon Arm\, British Columbia\, Canada
CATEGORIES:Show
ATTACH;FMTTYPE=image/png:https://lmsentertainment.biz/wp-content/uploads/2025/08/passion_of_amy_social.png
END:VEVENT
END:VCALENDAR